BEGIN:VCALENDAR
VERSION:2.0
PRODID:-//hacksw/handcal//NONSGML v1.0//EN
BEGIN:VEVENT
SUMMARY:Interclubs - coupe d'hiver
UID:dfbe873f-daa9-4ae1-b51c-c3cc4299d9be
DTSTART:20260314T230000Z
DTEND:20260315T230000Z
LOCATION:Localisation gymnase jean renaux - rue utrillo 80080 Amiens
CATEGORIES:Sportif
STATUS:
DESCRIPTION:<p><a
 href="https://admin.sportsregions.fr/media/uploaded/sites/3942/kcupload/files/mandat/coupe_d_hiver/Moreuil%20tir%20pastille.pdf"
 target="_blank" rel="noreferrer noopener">Mandat</a></p>
URL;VALUE=URI:https://www.cdarc80.com/evenements/2026/03/15/interclubs-coupe-dhiver-2419338
END:VEVENT
END:VCALENDAR
