BEGIN:VCALENDAR
VERSION:2.0
PRODID:-//hacksw/handcal//NONSGML v1.0//EN
BEGIN:VEVENT
SUMMARY:Trophee departemental des mixtes
UID:d7274113-267f-409d-94b5-2e72f492c519
DTSTART:20260314T070000Z
DTEND:20260314T170000Z
LOCATION:Localisation rue Utrillo 80000 Amiens
CATEGORIES:Sportif
STATUS:
DESCRIPTION:<p>Trophee departemental des mixtes 2026 au gymnase Jean
 Renaux a Amiens.</p>
 
 <p><a
 href="https://admin.sportsregions.fr/media/uploaded/sites/3942/kcupload/files/mandat/tdm/2026/Mandat_troph%C3%A9e%20des%20mixtes_salle_Amiens_20260314.pdf"
 target="_blank" rel="noreferrer
 noopener">Mandat</a></p>
 
 <p> </p>
 
 <p> </p>
URL;VALUE=URI:https://www.cdarc80.com/evenements/2026/03/14/trophee-departemental-des-mixtes-2419336
END:VEVENT
END:VCALENDAR
